Workbook

Sheet READ ME
A1: This contains the data for the article, Democracy and Equality in UK, USA and Canadian Newspapers, 1988 - 2013. The data was collected by Joshua Kjerulf Dubrow, Polish Academy of Sciences in July 2014
A2: The "data for figure 1 and figure 2" contains the averages of the rates as presented in the article. The trends were created with the raw data of the subsequent worksheets.
A3: The first worksheet for each newspaper contains the raw data. The second worksheet for each newspaper contains the calculations for the rate.

Sheet Data for Fig 1 and Fig 2
A1: Topic | B1: The Times | C1: Guardian | D1: New York Times | E1: USA Today | F1: Toronto Star | G1: Globe and Mail
A2: "Democracy" | B2: 35.96 | C2: 60.52 | D2: 68.56 | E2: 35.33 | F2: 41.22 | G2: 45.95
A3: "Equality" | B3: 12.77 | C3: 26.15 | D3: 9.47 | E3: 5.75 | F3: 10.81 | G3: 9.21
A4: "Democracy" and "Equality" | B4: 0.18 | C4: 0.53 | D4: 0.25 | E4: 0.2 | F4: 0.28 | G4: 0.31

Sheet new york times
A1: YEAR | B1: "the" | C1: "democracy" | D1: "equality" | E1: "inequality" or "unequal" | F1: "democracy" and "equality" | G1: "democracy" and "inequality" or "unequal" | H1: "inequality" and "income"
A2: 1988 | B2: 70298 | C2: 310 | D2: 36 | E2: 31 | F2: 1 | G2: 1 | H2: 5
A3: 1989 | B3: 67572 | C3: 753 | D3: 44 | E3: 16 | F3: 3 | G3: 2 | H3: 0
A4: 1990 | B4: 66471 | C4: 675 | D4: 42 | E4: 27 | F4: 2 | G4: 0 | H4: 3
A5: 1991 | B5: 68078 | C5: 567 | D5: 49 | E5: 39 | F5: 1 | G5: 1 | H5: 1
A6: 1992 | B6: 70868 | C6: 685 | D6: 42 | E6: 31 | F6: 1 | G6: 1 | H6: 1
A7: 1993 | B7: 67099 | C7: 567 | D7: 47 | E7: 20 | F7: 1 | G7: 0 | H7: 1
A8: 1994 | B8: 66242 | C8: 486 | D8: 59 | E8: 21 | F8: 0 | G8: 0 | H8: 4
A9: 1995 | B9: 69442 | C9: 396 | D9: 73 | E9: 42 | F9: 4 | G9: 3 | H9: 12
A10: 1996 | B10: 73919 | C10: 624 | D10: 87 | E10: 42 | F10: 0 | G10: 0 | H10: 9
A11: 1997 | B11: 68796 | C11: 515 | D11: 63 | E11: 47 | F11: 1 | G11: 0 | H11: 17
A12: 1998 | B12: 73705 | C12: 488 | D12: 55 | E12: 47 | F12: 2 | G12: 1 | H12: 10
A13: 1999 | B13: 78676 | C13: 498 | D13: 74 | E13: 52 | F13: 1 | G13: 1 | H13: 12
... A27: 2013 | B27: 140567 | C27: 632 | D27: 271 | E27: 361 | F27: 7 | G27: 3 | H27: 142
A28: total | B28: =SUM(B2:B27) -> 2137418 | C28: =SUM(C2:C27) -> 14656 | D28: =SUM(D2:D27) -> 2024 | E28: =SUM(E2:E27) -> 1802 | F28: =SUM(F2:F27) -> 54 | G28: =SUM(G2:G27) -> 37 | H28: =SUM(H2:H27) -> 602
A29: average | B29: =AVERAGE(B2:B27) -> 82208.385 | C29: =AVERAGE(C2:C27) -> 563.69231 | D29: =AVERAGE(D2:D27) -> 77.846154 | E29: =AVERAGE(E2:E27) -> 69.307692 | F29: =AVERAGE(F2:F27) -> 2.0769231 | G29: =AVERAGE(G2:G27) -> 1.4230769 | H29: =AVERAGE(H2:H27) -> 23.153846

Sheet NYT standardized by the
A1: YEAR | B1: "the" | C1: "democracy" | D1: "equality" | E1: "inequality" or "unequal" | F1: "democracy" and "equality" | G1: "democracy" and "inequality" or "unequal" | H1: "inequality" and "income"
A2: 1988 | B2: 70298 | C2: =(('new york times'!C2)/($B2))*10000 -> 44.097983 | D2: =(('new york times'!D2)/($B2))*10000 -> 5.1210561 | E2: =(('new york times'!E2)/($B2))*10000 -> 4.4097983 | F2: =(('new york times'!F2)/($B2))*10000 -> 0.14225156 | G2: =(('new york times'!G2)/($B2))*10000 -> 0.14225156 | H2: =(('new york times'!H2)/($B2))*10000 -> 0.71125779
A3: 1989 | B3: 67572 | C3: =(('new york times'!C3)/($B3))*10000 -> 111.43669 | D3: =(('new york times'!D3)/($B3))*10000 -> 6.5115728 | E3: =(('new york times'!E3)/($B3))*10000 -> 2.3678447 | F3: =(('new york times'!F3)/($B3))*10000 -> 0.44397088 | G3: =(('new york times'!G3)/($B3))*10000 -> 0.29598058 | H3: =(('new york times'!H3)/($B3))*10000 -> 0
A4: 1990 | B4: 66471 | C4: =(('new york times'!C4)/($B4))*10000 -> 101.54804 | D4: =(('new york times'!D4)/($B4))*10000 -> 6.3185449 | E4: =(('new york times'!E4)/($B4))*10000 -> 4.0619217 | F4: =(('new york times'!F4)/($B4))*10000 -> 0.30088309 | G4: =(('new york times'!G4)/($B4))*10000 -> 0 | H4: =(('new york times'!H4)/($B4))*10000 -> 0.45132464
A5: 1991 | B5: 68078 | C5: =(('new york times'!C5)/($B5))*10000 -> 83.286818 | D5: =(('new york times'!D5)/($B5))*10000 -> 7.1976263 | E5: =(('new york times'!E5)/($B5))*10000 -> 5.7287229 | F5: =(('new york times'!F5)/($B5))*10000 -> 0.14689033 | G5: =(('new york times'!G5)/($B5))*10000 -> 0.14689033 | H5: =(('new york times'!H5)/($B5))*10000 -> 0.14689033
A6: 1992 | B6: 70868 | C6: =(('new york times'!C6)/($B6))*10000 -> 96.658577 | D6: =(('new york times'!D6)/($B6))*10000 -> 5.9265113 | E6: =(('new york times'!E6)/($B6))*10000 -> 4.3743297 | F6: =(('new york times'!F6)/($B6))*10000 -> 0.14110741 | G6: =(('new york times'!G6)/($B6))*10000 -> 0.14110741 | H6: =(('new york times'!H6)/($B6))*10000 -> 0.14110741
A7: 1993 | B7: 67099 | C7: =(('new york times'!C7)/($B7))*10000 -> 84.502005 | D7: =(('new york times'!D7)/($B7))*10000 -> 7.0045753 | E7: =(('new york times'!E7)/($B7))*10000 -> 2.9806704 | F7: =(('new york times'!F7)/($B7))*10000 -> 0.14903352 | G7: =(('new york times'!G7)/($B7))*10000 -> 0 | H7: =(('new york times'!H7)/($B7))*10000 -> 0.14903352
A8: 1994 | B8: 66242 | C8: =(('new york times'!C8)/($B8))*10000 -> 73.36735 | D8: =(('new york times'!D8)/($B8))*10000 -> 8.9067359 | E8: =(('new york times'!E8)/($B8))*10000 -> 3.1701941 | F8: =(('new york times'!F8)/($B8))*10000 -> 0 | G8: =(('new york times'!G8)/($B8))*10000 -> 0 | H8: =(('new york times'!H8)/($B8))*10000 -> 0.6038465
A9: 1995 | B9: 69442 | C9: =(('new york times'!C9)/($B9))*10000 -> 57.026007 | D9: =(('new york times'!D9)/($B9))*10000 -> 10.51237 | E9: =(('new york times'!E9)/($B9))*10000 -> 6.0482129 | F9: =(('new york times'!F9)/($B9))*10000 -> 0.57602028 | G9: =(('new york times'!G9)/($B9))*10000 -> 0.43201521 | H9: =(('new york times'!H9)/($B9))*10000 -> 1.7280608
A10: 1996 | B10: 73919 | C10: =(('new york times'!C10)/($B10))*10000 -> 84.416726 | D10: =(('new york times'!D10)/($B10))*10000 -> 11.76964 | E10: =(('new york times'!E10)/($B10))*10000 -> 5.681895 | F10: =(('new york times'!F10)/($B10))*10000 -> 0 | G10: =(('new york times'!G10)/($B10))*10000 -> 0 | H10: =(('new york times'!H10)/($B10))*10000 -> 1.2175489
A11: 1997 | B11: 68796 | C11: =(('new york times'!C11)/($B11))*10000 -> 74.859003 | D11: =(('new york times'!D11)/($B11))*10000 -> 9.1575092 | E11: =(('new york times'!E11)/($B11))*10000 -> 6.8317925 | F11: =(('new york times'!F11)/($B11))*10000 -> 0.14535729 | G11: =(('new york times'!G11)/($B11))*10000 -> 0 | H11: =(('new york times'!H11)/($B11))*10000 -> 2.4710739
A12: 1998 | B12: 73705 | C12: =(('new york times'!C12)/($B12))*10000 -> 66.209891 | D12: =(('new york times'!D12)/($B12))*10000 -> 7.4621803 | E12: =(('new york times'!E12)/($B12))*10000 -> 6.3767723 | F12: =(('new york times'!F12)/($B12))*10000 -> 0.27135201 | G12: =(('new york times'!G12)/($B12))*10000 -> 0.13567601 | H12: =(('new york times'!H12)/($B12))*10000 -> 1.3567601
A13: 1999 | B13: 78676 | C13: =(('new york times'!C13)/($B13))*10000 -> 63.297575 | D13: =(('new york times'!D13)/($B13))*10000 -> 9.4056637 | E13: =(('new york times'!E13)/($B13))*10000 -> 6.6093853 | F13: =(('new york times'!F13)/($B13))*10000 -> 0.12710356 | G13: =(('new york times'!G13)/($B13))*10000 -> 0.12710356 | H13: =(('new york times'!H13)/($B13))*10000 -> 1.5252428
... A27: 2013 | B27: 140567 | C27: =(('new york times'!C27)/($B27))*10000 -> 44.960766 | D27: =(('new york times'!D27)/($B27))*10000 -> 19.279063 | E27: =(('new york times'!E27)/($B27))*10000 -> 25.681703 | F27: =(('new york times'!F27)/($B27))*10000 -> 0.49798317 | G27: =(('new york times'!G27)/($B27))*10000 -> 0.21342136 | H27: =(('new york times'!H27)/($B27))*10000 -> 10.101944
A28: total | B28: =SUM(B2:B27) -> 2137418 | C28: =(('new york times'!C28)/($B28))*10000 -> 68.568712 | D28: =(('new york times'!D28)/($B28))*10000 -> 9.4693691 | E28: =(('new york times'!E28)/($B28))*10000 -> 8.4307328 | F28: =(('new york times'!F28)/($B28))*10000 -> 0.25264127 | G28: =(('new york times'!G28)/($B28))*10000 -> 0.17310606 | H28: =(('new york times'!H28)/($B28))*10000 -> 2.8164823
A29: average | B29: =AVERAGE(B2:B27) -> 82208.385 | C29: =AVERAGE(C2:C27) -> 70.852667 | D29: =AVERAGE(D2:D27) -> 8.9753682 | E29: =AVERAGE(E2:E27) -> 7.2999413 | F29: =AVERAGE(F2:F27) -> 0.23976491 | G29: =AVERAGE(G2:G27) -> 0.1650079 | H29: =AVERAGE(H2:H27) -> 2.2495559

Sheet usa today
A1: YEAR | B1: "the" | C1: "democracy" | D1: "equality" | E1: "inequality" or "unequal" | F1: "democracy" and "equality" | G1: "democracy" and "inequality" or "unequal" | H1: "inequality" and "income"
A2: 1988 | B2: 61793 | C2: 60 | D2: 25 | E2: 11 | F2: 0 | G2: 0 | H2: 0
A3: 1989 | B3: 46691 | C3: 168 | D3: 26 | E3: 6 | F3: 1 | G3: 0 | H3: 0
A4: 1990 | B4: 45354 | C4: 129 | D4: 16 | E4: 4 | F4: 0 | G4: 0 | H4: 0
A5: 1991 | B5: 34651 | C5: 116 | D5: 15 | E5: 2 | F5: 0 | G5: 0 | H5: 0
A6: 1992 | B6: 33889 | C6: 113 | D6: 15 | E6: 9 | F6: 0 | G6: 0 | H6: 1
A7: 1993 | B7: 16782 | C7: 96 | D7: 12 | E7: 1 | F7: 0 | G7: 0 | H7: 0
A8: 1994 | B8: 14848 | C8: 89 | D8: 3 | E8: 5 | F8: 0 | G8: 0 | H8: 0
A9: 1995 | B9: 14665 | C9: 61 | D9: 8 | E9: 4 | F9: 0 | G9: 0 | H9: 0
A10: 1996 | B10: 21803 | C10: 64 | D10: 12 | E10: 9 | F10: 2 | G10: 0 | H10: 4
A11: 1997 | B11: 15099 | C11: 55 | D11: 8 | E11: 4 | F11: 1 | G11: 0 | H11: 0
A12: 1998 | B12: 14870 | C12: 61 | D12: 8 | E12: 5 | F12: 0 | G12: 0 | H12: 0
A13: 1999 | B13: 11919 | C13: 33 | D13: 8 | E13: 3 | F13: 0 | G13: 0 | H13: 0
... A27: 2013 | B27: 11179 | C27: 48 | D27: 14 | E27: 9 | F27: 0 | G27: 0 | H27: 4
A28: total | B28: =SUM(B2:B27) -> 493659 | C28: =SUM(C2:C27) -> 1744 | D28: =SUM(D2:D27) -> 284 | E28: =SUM(E2:E27) -> 147 | F28: =SUM(F2:F27) -> 10 | G28: =SUM(G2:G27) -> 1 | H28: =SUM(H2:H27) -> 32
A29: average | B29: =AVERAGE(B2:B27) -> 18986.885 | C29: =AVERAGE(C2:C27) -> 67.076923 | D29: =AVERAGE(D2:D27) -> 10.923077 | E29: =AVERAGE(E2:E27) -> 5.6538462 | F29: =AVERAGE(F2:F27) -> 0.38461538 | G29: =AVERAGE(G2:G27) -> 0.038461538 | H29: =AVERAGE(H2:H27) -> 1.2307692

Sheet USA Today standardized by the2
A1: YEAR | B1: "the" | C1: "democracy" | D1: "equality" | E1: "inequality" or "unequal" | F1: "democracy" and "equality" | G1: "democracy" and "inequality" or "unequal" | H1: "inequality" and "income"
A2: 1988 | B2: 61793 | C2: =(('usa today'!C2)/($B2))*10000 -> 9.7098377 | D2: =(('usa today'!D2)/($B2))*10000 -> 4.0457657 | E2: =(('usa today'!E2)/($B2))*10000 -> 1.7801369 | F2: =(('usa today'!F2)/($B2))*10000 -> 0 | G2: =(('usa today'!G2)/($B2))*10000 -> 0 | H2: =(('usa today'!H2)/($B2))*10000 -> 0
A3: 1989 | B3: 46691 | C3: =(('usa today'!C3)/($B3))*10000 -> 35.981238 | D3: =(('usa today'!D3)/($B3))*10000 -> 5.568525 | E3: =(('usa today'!E3)/($B3))*10000 -> 1.2850442 | F3: =(('usa today'!F3)/($B3))*10000 -> 0.21417404 | G3: =(('usa today'!G3)/($B3))*10000 -> 0 | H3: =(('usa today'!H3)/($B3))*10000 -> 0
A4: 1990 | B4: 45354 | C4: =(('usa today'!C4)/($B4))*10000 -> 28.442916 | D4: =(('usa today'!D4)/($B4))*10000 -> 3.5278035 | E4: =(('usa today'!E4)/($B4))*10000 -> 0.88195088 | F4: =(('usa today'!F4)/($B4))*10000 -> 0 | G4: =(('usa today'!G4)/($B4))*10000 -> 0 | H4: =(('usa today'!H4)/($B4))*10000 -> 0
A5: 1991 | B5: 34651 | C5: =(('usa today'!C5)/($B5))*10000 -> 33.476667 | D5: =(('usa today'!D5)/($B5))*10000 -> 4.3288794 | E5: =(('usa today'!E5)/($B5))*10000 -> 0.57718392 | F5: =(('usa today'!F5)/($B5))*10000 -> 0 | G5: =(('usa today'!G5)/($B5))*10000 -> 0 | H5: =(('usa today'!H5)/($B5))*10000 -> 0
A6: 1992 | B6: 33889 | C6: =(('usa today'!C6)/($B6))*10000 -> 33.344153 | D6: =(('usa today'!D6)/($B6))*10000 -> 4.426215 | E6: =(('usa today'!E6)/($B6))*10000 -> 2.655729 | F6: =(('usa today'!F6)/($B6))*10000 -> 0 | G6: =(('usa today'!G6)/($B6))*10000 -> 0 | H6: =(('usa today'!H6)/($B6))*10000 -> 0.295081
A7: 1993 | B7: 16782 | C7: =(('usa today'!C7)/($B7))*10000 -> 57.204147 | D7: =(('usa today'!D7)/($B7))*10000 -> 7.1505184 | E7: =(('usa today'!E7)/($B7))*10000 -> 0.59587653 | F7: =(('usa today'!F7)/($B7))*10000 -> 0 | G7: =(('usa today'!G7)/($B7))*10000 -> 0 | H7: =(('usa today'!H7)/($B7))*10000 -> 0
A8: 1994 | B8: 14848 | C8: =(('usa today'!C8)/($B8))*10000 -> 59.940733 | D8: =(('usa today'!D8)/($B8))*10000 -> 2.0204741 | E8: =(('usa today'!E8)/($B8))*10000 -> 3.3674569 | F8: =(('usa today'!F8)/($B8))*10000 -> 0 | G8: =(('usa today'!G8)/($B8))*10000 -> 0 | H8: =(('usa today'!H8)/($B8))*10000 -> 0
A9: 1995 | B9: 14665 | C9: =(('usa today'!C9)/($B9))*10000 -> 41.595636 | D9: =(('usa today'!D9)/($B9))*10000 -> 5.4551654 | E9: =(('usa today'!E9)/($B9))*10000 -> 2.7275827 | F9: =(('usa today'!F9)/($B9))*10000 -> 0 | G9: =(('usa today'!G9)/($B9))*10000 -> 0 | H9: =(('usa today'!H9)/($B9))*10000 -> 0
A10: 1996 | B10: 21803 | C10: =(('usa today'!C10)/($B10))*10000 -> 29.353759 | D10: =(('usa today'!D10)/($B10))*10000 -> 5.5038297 | E10: =(('usa today'!E10)/($B10))*10000 -> 4.1278723 | F10: =(('usa today'!F10)/($B10))*10000 -> 0.91730496 | G10: =(('usa today'!G10)/($B10))*10000 -> 0 | H10: =(('usa today'!H10)/($B10))*10000 -> 1.8346099
A11: 1997 | B11: 15099 | C11: =(('usa today'!C11)/($B11))*10000 -> 36.426253 | D11: =(('usa today'!D11)/($B11))*10000 -> 5.2983641 | E11: =(('usa today'!E11)/($B11))*10000 -> 2.6491821 | F11: =(('usa today'!F11)/($B11))*10000 -> 0.66229552 | G11: =(('usa today'!G11)/($B11))*10000 -> 0 | H11: =(('usa today'!H11)/($B11))*10000 -> 0
A12: 1998 | B12: 14870 | C12: =(('usa today'!C12)/($B12))*10000 -> 41.022192 | D12: =(('usa today'!D12)/($B12))*10000 -> 5.3799597 | E12: =(('usa today'!E12)/($B12))*10000 -> 3.3624748 | F12: =(('usa today'!F12)/($B12))*10000 -> 0 | G12: =(('usa today'!G12)/($B12))*10000 -> 0 | H12: =(('usa today'!H12)/($B12))*10000 -> 0
A13: 1999 | B13: 11919 | C13: =(('usa today'!C13)/($B13))*10000 -> 27.686886 | D13: =(('usa today'!D13)/($B13))*10000 -> 6.7119725 | E13: =(('usa today'!E13)/($B13))*10000 -> 2.5169897 | F13: =(('usa today'!F13)/($B13))*10000 -> 0 | G13: =(('usa today'!G13)/($B13))*10000 -> 0 | H13: =(('usa today'!H13)/($B13))*10000 -> 0
... A27: 2013 | B27: 11179 | C27: =(('usa today'!C27)/($B27))*10000 -> 42.937651 | D27: =(('usa today'!D27)/($B27))*10000 -> 12.523482 | E27: =(('usa today'!E27)/($B27))*10000 -> 8.0508096 | F27: =(('usa today'!F27)/($B27))*10000 -> 0 | G27: =(('usa today'!G27)/($B27))*10000 -> 0 | H27: =(('usa today'!H27)/($B27))*10000 -> 3.5781376
A28: total | B28: =SUM(B2:B27) -> 493659 | C28: =(('usa today'!C28)/($B28))*10000 -> 35.32803 | D28: =(('usa today'!D28)/($B28))*10000 -> 5.752959 | E28: =(('usa today'!E28)/($B28))*10000 -> 2.977764 | F28: =(('usa today'!F28)/($B28))*10000 -> 0.20256898 | G28: =(('usa today'!G28)/($B28))*10000 -> 0.020256898 | H28: =(('usa today'!H28)/($B28))*10000 -> 0.64822074
A29: average | B29: =AVERAGE(B2:B27) -> 18986.885 | C29: =AVERAGE(C2:C27) -> 40.465576 | D29: =AVERAGE(D2:D27) -> 6.7334276 | E29: =AVERAGE(E2:E27) -> 3.9007629 | F29: =AVERAGE(F2:F27) -> 0.27871845 | G29: =AVERAGE(G2:G27) -> 0.035057459 | H29: =AVERAGE(H2:H27) -> 1.0237869

Sheet the times
A1: YEAR | B1: "the" | C1: "democracy" | D1: "equality" | E1: "inequality" or "unequal" | F1: "democracy" and "equality" | G1: "democracy" and "inequality" or "unequal" | H1: "inequality" and "income"
A2: 1988 | B2: 70131 | C2: 208 | D2: 75 | E2: 19 | F2: 1 | G2: 0 | H2: 2
A3: 1989 | B3: 67829 | C3: 452 | D3: 59 | E3: 14 | F3: 0 | G3: 0 | H3: 1
A4: 1990 | B4: 42248 | C4: 345 | D4: 56 | E4: 10 | F4: 1 | G4: 0 | H4: 2
A5: 1991 | B5: 39856 | C5: 275 | D5: 54 | E5: 7 | F5: 1 | G5: 0 | H5: 0
A6: 1992 | B6: 37778 | C6: 221 | D6: 40 | E6: 13 | F6: 0 | G6: 1 | H6: 0
A7: 1993 | B7: 37677 | C7: 246 | D7: 45 | E7: 8 | F7: 1 | G7: 1 | H7: 0
A8: 1994 | B8: 39844 | C8: 188 | D8: 45 | E8: 12 | F8: 0 | G8: 0 | H8: 0
A9: 1995 | B9: 53293 | C9: 197 | D9: 64 | E9: 24 | F9: 1 | G9: 2 | H9: 3
A10: 1996 | B10: 79002 | C10: 303 | D10: 73 | E10: 28 | F10: 2 | G10: 0 | H10: 2
A11: 1997 | B11: 84995 | C11: 275 | D11: 76 | E11: 26 | F11: 0 | G11: 0 | H11: 0
A12: 1998 | B12: 87199 | C12: 297 | D12: 77 | E12: 17 | F12: 3 | G12: 2 | H12: 3
A13: 1999 | B13: 89005 | C13: 312 | D13: 90 | E13: 24 | F13: 1 | G13: 0 | H13: 1
... A27: 2013 | B27: 217851 | C27: 529 | D27: 333 | E27: 104 | F27: 5 | G27: 3 | H27: 5
A28: total | B28: =SUM(B2:B27) -> 2553952 | C28: =SUM(C2:C27) -> 9184 | D28: =SUM(D2:D27) -> 3261 | E28: =SUM(E2:E27) -> 962 | F28: =SUM(F2:F27) -> 47 | G28: =SUM(G2:G27) -> 21 | H28: =SUM(H2:H27) -> 74
A29: average | B29: =AVERAGE(B2:B27) -> 98228.923 | C29: =AVERAGE(C2:C27) -> 353.23077 | D29: =AVERAGE(D2:D27) -> 125.42308 | E29: =AVERAGE(E2:E27) -> 37 | F29: =AVERAGE(F2:F27) -> 1.8076923 | G29: =AVERAGE(G2:G27) -> 0.80769231 | H29: =AVERAGE(H2:H27) -> 2.8461538

Sheet The Times standardized by the3
A1: YEAR | B1: "the" | C1: "democracy" | D1: "equality" | E1: "inequality" or "unequal" | F1: "democracy" and "equality" | G1: "democracy" and "inequality" or "unequal" | H1: "inequality" and "income"
A2: 1988 | B2: 70131 | C2: =(('the times'!C2)/($B2))*10000 -> 29.658781 | D2: =(('the times'!D2)/($B2))*10000 -> 10.694272 | E2: =(('the times'!E2)/($B2))*10000 -> 2.7092156 | F2: =(('the times'!F2)/($B2))*10000 -> 0.1425903 | G2: =(('the times'!G2)/($B2))*10000 -> 0 | H2: =(('the times'!H2)/($B2))*10000 -> 0.28518059
A3: 1989 | B3: 67829 | C3: =(('the times'!C3)/($B3))*10000 -> 66.638164 | D3: =(('the times'!D3)/($B3))*10000 -> 8.6983444 | E3: =(('the times'!E3)/($B3))*10000 -> 2.0640139 | F3: =(('the times'!F3)/($B3))*10000 -> 0 | G3: =(('the times'!G3)/($B3))*10000 -> 0 | H3: =(('the times'!H3)/($B3))*10000 -> 0.14742957
A4: 1990 | B4: 42248 | C4: =(('the times'!C4)/($B4))*10000 -> 81.66067 | D4: =(('the times'!D4)/($B4))*10000 -> 13.255065 | E4: =(('the times'!E4)/($B4))*10000 -> 2.366976 | F4: =(('the times'!F4)/($B4))*10000 -> 0.2366976 | G4: =(('the times'!G4)/($B4))*10000 -> 0 | H4: =(('the times'!H4)/($B4))*10000 -> 0.47339519
A5: 1991 | B5: 39856 | C5: =(('the times'!C5)/($B5))*10000 -> 68.998394 | D5: =(('the times'!D5)/($B5))*10000 -> 13.548776 | E5: =(('the times'!E5)/($B5))*10000 -> 1.7563228 | F5: =(('the times'!F5)/($B5))*10000 -> 0.25090325 | G5: =(('the times'!G5)/($B5))*10000 -> 0 | H5: =(('the times'!H5)/($B5))*10000 -> 0
A6: 1992 | B6: 37778 | C6: =(('the times'!C6)/($B6))*10000 -> 58.499656 | D6: =(('the times'!D6)/($B6))*10000 -> 10.588173 | E6: =(('the times'!E6)/($B6))*10000 -> 3.4411562 | F6: =(('the times'!F6)/($B6))*10000 -> 0 | G6: =(('the times'!G6)/($B6))*10000 -> 0.26470433 | H6: =(('the times'!H6)/($B6))*10000 -> 0
A7: 1993 | B7: 37677 | C7: =(('the times'!C7)/($B7))*10000 -> 65.291823 | D7: =(('the times'!D7)/($B7))*10000 -> 11.943626 | E7: =(('the times'!E7)/($B7))*10000 -> 2.1233113 | F7: =(('the times'!F7)/($B7))*10000 -> 0.26541391 | G7: =(('the times'!G7)/($B7))*10000 -> 0.26541391 | H7: =(('the times'!H7)/($B7))*10000 -> 0
A8: 1994 | B8: 39844 | C8: =(('the times'!C8)/($B8))*10000 -> 47.184018 | D8: =(('the times'!D8)/($B8))*10000 -> 11.294047 | E8: =(('the times'!E8)/($B8))*10000 -> 3.0117458 | F8: =(('the times'!F8)/($B8))*10000 -> 0 | G8: =(('the times'!G8)/($B8))*10000 -> 0 | H8: =(('the times'!H8)/($B8))*10000 -> 0
A9: 1995 | B9: 53293 | C9: =(('the times'!C9)/($B9))*10000 -> 36.965455 | D9: =(('the times'!D9)/($B9))*10000 -> 12.009082 | E9: =(('the times'!E9)/($B9))*10000 -> 4.5034057 | F9: =(('the times'!F9)/($B9))*10000 -> 0.1876419 | G9: =(('the times'!G9)/($B9))*10000 -> 0.37528381 | H9: =(('the times'!H9)/($B9))*10000 -> 0.56292571
A10: 1996 | B10: 79002 | C10: =(('the times'!C10)/($B10))*10000 -> 38.353459 | D10: =(('the times'!D10)/($B10))*10000 -> 9.2402724 | E10: =(('the times'!E10)/($B10))*10000 -> 3.5442141 | F10: =(('the times'!F10)/($B10))*10000 -> 0.25315815 | G10: =(('the times'!G10)/($B10))*10000 -> 0 | H10: =(('the times'!H10)/($B10))*10000 -> 0.25315815
A11: 1997 | B11: 84995 | C11: =(('the times'!C11)/($B11))*10000 -> 32.354844 | D11: =(('the times'!D11)/($B11))*10000 -> 8.9417025 | E11: =(('the times'!E11)/($B11))*10000 -> 3.0590035 | F11: =(('the times'!F11)/($B11))*10000 -> 0 | G11: =(('the times'!G11)/($B11))*10000 -> 0 | H11: =(('the times'!H11)/($B11))*10000 -> 0
A12: 1998 | B12: 87199 | C12: =(('the times'!C12)/($B12))*10000 -> 34.060024 | D12: =(('the times'!D12)/($B12))*10000 -> 8.8303765 | E12: =(('the times'!E12)/($B12))*10000 -> 1.9495636 | F12: =(('the times'!F12)/($B12))*10000 -> 0.34404064 | G12: =(('the times'!G12)/($B12))*10000 -> 0.22936043 | H12: =(('the times'!H12)/($B12))*10000 -> 0.34404064
A13: 1999 | B13: 89005 | C13: =(('the times'!C13)/($B13))*10000 -> 35.05421 | D13: =(('the times'!D13)/($B13))*10000 -> 10.111791 | E13: =(('the times'!E13)/($B13))*10000 -> 2.6964777 | F13: =(('the times'!F13)/($B13))*10000 -> 0.11235324 | G13: =(('the times'!G13)/($B13))*10000 -> 0 | H13: =(('the times'!H13)/($B13))*10000 -> 0.11235324
... A27: 2013 | B27: 217851 | C27: =(('the times'!C27)/($B27))*10000 -> 24.282652 | D27: =(('the times'!D27)/($B27))*10000 -> 15.285677 | E27: =(('the times'!E27)/($B27))*10000 -> 4.7739051 | F27: =(('the times'!F27)/($B27))*10000 -> 0.22951467 | G27: =(('the times'!G27)/($B27))*10000 -> 0.1377088 | H27: =(('the times'!H27)/($B27))*10000 -> 0.22951467
A28: total | B28: =SUM(B2:B27) -> 2553952 | C28: =(('the times'!C28)/($B28))*10000 -> 35.959955 | D28: =(('the times'!D28)/($B28))*10000 -> 12.768447 | E28: =(('the times'!E28)/($B28))*10000 -> 3.7667114 | F28: =(('the times'!F28)/($B28))*10000 -> 0.18402852 | G28: =(('the times'!G28)/($B28))*10000 -> 0.082225508 | H28: =(('the times'!H28)/($B28))*10000 -> 0.28974703
A29: average | B29: =AVERAGE(B2:B27) -> 98228.923 | C29: =AVERAGE(C2:C27) -> 39.174601 | D29: =AVERAGE(D2:D27) -> 12.207241 | E29: =AVERAGE(E2:E27) -> 3.2833193 | F29: =AVERAGE(F2:F27) -> 0.16583852 | G29: =AVERAGE(G2:G27) -> 0.082145125 | H29: =AVERAGE(H2:H27) -> 0.23137281

Sheet guardian
A1: YEAR | B1: "the" | C1: "democracy" | D1: "equality" | E1: "inequality" or "unequal" | F1: "democracy" and "equality" | G1: "democracy" and "inequality" or "unequal" | H1: "inequality" and "income"
A2: 1988 | B2: 4598 | C2: 9 | D2: 7 | E2: 2 | F2: 0 | G2: 0 | H2: 0
A3: 1989 | B3: 4403 | C3: 9 | D3: 6 | E3: 2 | F3: 0 | G3: 0 | H3: 0
A4: 1990 | B4: 22531 | C4: 272 | D4: 26 | E4: 20 | F4: 1 | G4: 0 | H4: 0
A5: 1991 | B5: 27323 | C5: 239 | D5: 62 | E5: 23 | F5: 2 | G5: 0 | H5: 3
A6: 1992 | B6: 25235 | C6: 199 | D6: 54 | E6: 21 | F6: 0 | G6: 1 | H6: 5
A7: 1993 | B7: 25359 | C7: 241 | D7: 50 | E7: 20 | F7: 1 | G7: 0 | H7: 3
A8: 1994 | B8: 27394 | C8: 185 | D8: 65 | E8: 34 | F8: 1 | G8: 1 | H8: 4
A9: 1995 | B9: 32824 | C9: 167 | D9: 73 | E9: 40 | F9: 0 | G9: 0 | H9: 5
A10: 1996 | B10: 39273 | C10: 248 | D10: 100 | E10: 43 | F10: 0 | G10: 0 | H10: 6
A11: 1997 | B11: 49457 | C11: 301 | D11: 141 | E11: 67 | F11: 2 | G11: 0 | H11: 4
A12: 1998 | B12: 43185 | C12: 301 | D12: 124 | E12: 42 | F12: 3 | G12: 0 | H12: 3
A13: 1999 | B13: 41908 | C13: 237 | D13: 118 | E13: 46 | F13: 0 | G13: 1 | H13: 4
... A27: 2013 | B27: 96012 | C27: 427 | D27: 324 | E27: 202 | F27: 8 | G27: 5 | H27: 16
A28: total | B28: =SUM(B2:B27) -> 1706936 | C28: =SUM(C2:C27) -> 10330 | D28: =SUM(D2:D27) -> 4463 | E28: =SUM(E2:E27) -> 2420 | F28: =SUM(F2:F27) -> 90 | G28: =SUM(G2:G27) -> 47 | H28: =SUM(H2:H27) -> 216
A29: average | B29: =AVERAGE(B2:B27) -> 65651.385 | C29: =AVERAGE(C2:C27) -> 397.30769 | D29: =AVERAGE(D2:D27) -> 171.65385 | E29: =AVERAGE(E2:E27) -> 93.076923 | F29: =AVERAGE(F2:F27) -> 3.4615385 | G29: =AVERAGE(G2:G27) -> 1.8076923 | H29: =AVERAGE(H2:H27) -> 8.3076923

Sheet Guardian standardized by the4
A1: YEAR | B1: "the" | C1: "democracy" | D1: "equality" | E1: "inequality" or "unequal" | F1: "democracy" and "equality" | G1: "democracy" and "inequality" or "unequal" | H1: "inequality" and "income"
A2: 1988 | B2: 4598 | C2: =((guardian!C2)/($B2))*10000 -> 19.573728 | D2: =((guardian!D2)/($B2))*10000 -> 15.22401 | E2: =((guardian!E2)/($B2))*10000 -> 4.3497173 | F2: =((guardian!F2)/($B2))*10000 -> 0 | G2: =((guardian!G2)/($B2))*10000 -> 0 | H2: =((guardian!H2)/($B2))*10000 -> 0
A3: 1989 | B3: 4403 | C3: =((guardian!C3)/($B3))*10000 -> 20.440609 | D3: =((guardian!D3)/($B3))*10000 -> 13.627072 | E3: =((guardian!E3)/($B3))*10000 -> 4.5423575 | F3: =((guardian!F3)/($B3))*10000 -> 0 | G3: =((guardian!G3)/($B3))*10000 -> 0 | H3: =((guardian!H3)/($B3))*10000 -> 0
A4: 1990 | B4: 22531 | C4: =((guardian!C4)/($B4))*10000 -> 120.72256 | D4: =((guardian!D4)/($B4))*10000 -> 11.539656 | E4: =((guardian!E4)/($B4))*10000 -> 8.8766588 | F4: =((guardian!F4)/($B4))*10000 -> 0.44383294 | G4: =((guardian!G4)/($B4))*10000 -> 0 | H4: =((guardian!H4)/($B4))*10000 -> 0
A5: 1991 | B5: 27323 | C5: =((guardian!C5)/($B5))*10000 -> 87.472093 | D5: =((guardian!D5)/($B5))*10000 -> 22.691505 | E5: =((guardian!E5)/($B5))*10000 -> 8.4178165 | F5: =((guardian!F5)/($B5))*10000 -> 0.73198404 | G5: =((guardian!G5)/($B5))*10000 -> 0 | H5: =((guardian!H5)/($B5))*10000 -> 1.0979761
A6: 1992 | B6: 25235 | C6: =((guardian!C6)/($B6))*10000 -> 78.858728 | D6: =((guardian!D6)/($B6))*10000 -> 21.398851 | E6: =((guardian!E6)/($B6))*10000 -> 8.3217753 | F6: =((guardian!F6)/($B6))*10000 -> 0 | G6: =((guardian!G6)/($B6))*10000 -> 0.39627501 | H6: =((guardian!H6)/($B6))*10000 -> 1.9813751
A7: 1993 | B7: 25359 | C7: =((guardian!C7)/($B7))*10000 -> 95.035293 | D7: =((guardian!D7)/($B7))*10000 -> 19.716866 | E7: =((guardian!E7)/($B7))*10000 -> 7.8867463 | F7: =((guardian!F7)/($B7))*10000 -> 0.39433732 | G7: =((guardian!G7)/($B7))*10000 -> 0 | H7: =((guardian!H7)/($B7))*10000 -> 1.1830119
A8: 1994 | B8: 27394 | C8: =((guardian!C8)/($B8))*10000 -> 67.533036 | D8: =((guardian!D8)/($B8))*10000 -> 23.727824 | E8: =((guardian!E8)/($B8))*10000 -> 12.411477 | F8: =((guardian!F8)/($B8))*10000 -> 0.36504344 | G8: =((guardian!G8)/($B8))*10000 -> 0.36504344 | H8: =((guardian!H8)/($B8))*10000 -> 1.4601738
A9: 1995 | B9: 32824 | C9: =((guardian!C9)/($B9))*10000 -> 50.877407 | D9: =((guardian!D9)/($B9))*10000 -> 22.239825 | E9: =((guardian!E9)/($B9))*10000 -> 12.186205 | F9: =((guardian!F9)/($B9))*10000 -> 0 | G9: =((guardian!G9)/($B9))*10000 -> 0 | H9: =((guardian!H9)/($B9))*10000 -> 1.5232757
A10: 1996 | B10: 39273 | C10: =((guardian!C10)/($B10))*10000 -> 63.14771 | D10: =((guardian!D10)/($B10))*10000 -> 25.462786 | E10: =((guardian!E10)/($B10))*10000 -> 10.948998 | F10: =((guardian!F10)/($B10))*10000 -> 0 | G10: =((guardian!G10)/($B10))*10000 -> 0 | H10: =((guardian!H10)/($B10))*10000 -> 1.5277672
A11: 1997 | B11: 49457 | C11: =((guardian!C11)/($B11))*10000 -> 60.86095 | D11: =((guardian!D11)/($B11))*10000 -> 28.509614 | E11: =((guardian!E11)/($B11))*10000 -> 13.547122 | F11: =((guardian!F11)/($B11))*10000 -> 0.40439169 | G11: =((guardian!G11)/($B11))*10000 -> 0 | H11: =((guardian!H11)/($B11))*10000 -> 0.80878339
A12: 1998 | B12: 43185 | C12: =((guardian!C12)/($B12))*10000 -> 69.700127 | D12: =((guardian!D12)/($B12))*10000 -> 28.713674 | E12: =((guardian!E12)/($B12))*10000 -> 9.7255992 | F12: =((guardian!F12)/($B12))*10000 -> 0.69468565 | G12: =((guardian!G12)/($B12))*10000 -> 0 | H12: =((guardian!H12)/($B12))*10000 -> 0.69468565
A13: 1999 | B13: 41908 | C13: =((guardian!C13)/($B13))*10000 -> 56.552448 | D13: =((guardian!D13)/($B13))*10000 -> 28.156915 | E13: =((guardian!E13)/($B13))*10000 -> 10.976425 | F13: =((guardian!F13)/($B13))*10000 -> 0 | G13: =((guardian!G13)/($B13))*10000 -> 0.23861792 | H13: =((guardian!H13)/($B13))*10000 -> 0.9544717
... A27: 2013 | B27: 96012 | C27: =((guardian!C27)/($B27))*10000 -> 44.473607 | D27: =((guardian!D27)/($B27))*10000 -> 33.745782 | E27: =((guardian!E27)/($B27))*10000 -> 21.039037 | F27: =((guardian!F27)/($B27))*10000 -> 0.83322918 | G27: =((guardian!G27)/($B27))*10000 -> 0.52076824 | H27: =((guardian!H27)/($B27))*10000 -> 1.6664584
A28: total | B28: =SUM(B2:B27) -> 1706936 | C28: =((guardian!C28)/($B28))*10000 -> 60.517793 | D28: =((guardian!D28)/($B28))*10000 -> 26.146264 | E28: =((guardian!E28)/($B28))*10000 -> 14.17745 | F28: =((guardian!F28)/($B28))*10000 -> 0.52726054 | G28: =((guardian!G28)/($B28))*10000 -> 0.27534717 | H28: =((guardian!H28)/($B28))*10000 -> 1.2654253
A29: average | B29: =AVERAGE(B2:B27) -> 65651.385 | C29: =AVERAGE(C2:C27) -> 61.095219 | D29: =AVERAGE(D2:D27) -> 23.963191 | E29: =AVERAGE(E2:E27) -> 12.148351 | F29: =AVERAGE(F2:F27) -> 0.42338343 | G29: =AVERAGE(G2:G27) -> 0.19865625 | H29: =AVERAGE(H2:H27) -> 1.1104392

Sheet toronto star
B1: "the" | C1: "democracy" | D1: "equality" | E1: "inequality" or "unequal" | F1: "democracy" and "equality" | G1: "democracy" and "inequality" or "unequal" | H1: "inequality" and "income"
A2: 1988 | B2: 42817 | C2: 92 | D2: 31 | E2: 6 | F2: 1 | G2: 0 | H2: 0
A3: 1989 | B3: 58036 | C3: 300 | D3: 104 | E3: 10 | F3: 1 | G3: 1 | H3: 0
A4: 1990 | B4: 54063 | C4: 286 | D4: 82 | E4: 15 | F4: 0 | G4: 0 | H4: 2
A5: 1991 | B5: 47931 | C5: 165 | D5: 57 | E5: 7 | F5: 0 | G5: 0 | H5: 0
A6: 1992 | B6: 45626 | C6: 206 | D6: 79 | E6: 7 | F6: 2 | G6: 0 | H6: 0
A7: 1993 | B7: 42194 | C7: 165 | D7: 61 | E7: 9 | F7: 1 | G7: 0 | H7: 0
A8: 1994 | B8: 34526 | C8: 110 | D8: 32 | E8: 8 | F8: 0 | G8: 0 | H8: 1
A9: 1995 | B9: 35931 | C9: 117 | D9: 38 | E9: 10 | F9: 1 | G9: 0 | H9: 0
A10: 1996 | B10: 35568 | C10: 112 | D10: 39 | E10: 10 | F10: 0 | G10: 1 | H10: 2
A11: 1997 | B11: 33482 | C11: 179 | D11: 40 | E11: 5 | F11: 2 | G11: 0 | H11: 1
A12: 1998 | B12: 58763 | C12: 214 | D12: 31 | E12: 10 | F12: 0 | G12: 0 | H12: 0
A13: 1999 | B13: 46587 | C13: 172 | D13: 41 | E13: 9 | F13: 1 | G13: 0 | H13: 0
... A27: 2013 | B27: 32348 | C27: 124 | D27: 57 | E27: 24 | F27: 2 | G27: 1 | H27: 5
A28: total | B28: =SUM(B2:B27) -> 962596 | C28: =SUM(C2:C27) -> 3968 | D28: =SUM(D2:D27) -> 1041 | E28: =SUM(E2:E27) -> 316 | F28: =SUM(F2:F27) -> 27 | G28: =SUM(G2:G27) -> 7 | H28: =SUM(H2:H27) -> 51
A29: average | B29: =AVERAGE(B18:B27,B2:B16) -> 38503.8 | C29: =AVERAGE(C18:C27,C2:C16) -> 158.72 | D29: =AVERAGE(D18:D27,D2:D16) -> 41.64 | E29: =AVERAGE(E18:E27,E2:E16) -> 12.64 | F29: =AVERAGE(F18:F27,F2:F16) -> 1.08 | G29: =AVERAGE(G18:G27,G2:G16) -> 0.28 | H29: =AVERAGE(H18:H27,H2:H16) -> 2.04

Sheet Toronto standardized by the5
A1: YEAR | B1: "the" | C1: "democracy" | D1: "equality" | E1: "inequality" or "unequal" | F1: "democracy" and "equality" | G1: "democracy" and "inequality" or "unequal" | H1: "inequality" and "income"
A2: 1988 | B2: 42817 | C2: =(('toronto star'!C2)/($B2))*10000 -> 21.486793 | D2: =(('toronto star'!D2)/($B2))*10000 -> 7.2401149 | E2: =(('toronto star'!E2)/($B2))*10000 -> 1.4013126 | F2: =(('toronto star'!F2)/($B2))*10000 -> 0.23355209 | G2: =(('toronto star'!G2)/($B2))*10000 -> 0 | H2: =(('toronto star'!H2)/($B2))*10000 -> 0
A3: 1989 | B3: 58036 | C3: =(('toronto star'!C3)/($B3))*10000 -> 51.692053 | D3: =(('toronto star'!D3)/($B3))*10000 -> 17.919912 | E3: =(('toronto star'!E3)/($B3))*10000 -> 1.7230684 | F3: =(('toronto star'!F3)/($B3))*10000 -> 0.17230684 | G3: =(('toronto star'!G3)/($B3))*10000 -> 0.17230684 | H3: =(('toronto star'!H3)/($B3))*10000 -> 0
A4: 1990 | B4: 54063 | C4: =(('toronto star'!C4)/($B4))*10000 -> 52.901245 | D4: =(('toronto star'!D4)/($B4))*10000 -> 15.16749 | E4: =(('toronto star'!E4)/($B4))*10000 -> 2.7745408 | F4: =(('toronto star'!F4)/($B4))*10000 -> 0 | G4: =(('toronto star'!G4)/($B4))*10000 -> 0 | H4: =(('toronto star'!H4)/($B4))*10000 -> 0.36993878
A5: 1991 | B5: 47931 | C5: =(('toronto star'!C5)/($B5))*10000 -> 34.424485 | D5: =(('toronto star'!D5)/($B5))*10000 -> 11.892095 | E5: =(('toronto star'!E5)/($B5))*10000 -> 1.4604327 | F5: =(('toronto star'!F5)/($B5))*10000 -> 0 | G5: =(('toronto star'!G5)/($B5))*10000 -> 0 | H5: =(('toronto star'!H5)/($B5))*10000 -> 0
A6: 1992 | B6: 45626 | C6: =(('toronto star'!C6)/($B6))*10000 -> 45.149695 | D6: =(('toronto star'!D6)/($B6))*10000 -> 17.314689 | E6: =(('toronto star'!E6)/($B6))*10000 -> 1.5342129 | F6: =(('toronto star'!F6)/($B6))*10000 -> 0.43834656 | G6: =(('toronto star'!G6)/($B6))*10000 -> 0 | H6: =(('toronto star'!H6)/($B6))*10000 -> 0
A7: 1993 | B7: 42194 | C7: =(('toronto star'!C7)/($B7))*10000 -> 39.105086 | D7: =(('toronto star'!D7)/($B7))*10000 -> 14.457032 | E7: =(('toronto star'!E7)/($B7))*10000 -> 2.1330047 | F7: =(('toronto star'!F7)/($B7))*10000 -> 0.23700052 | G7: =(('toronto star'!G7)/($B7))*10000 -> 0 | H7: =(('toronto star'!H7)/($B7))*10000 -> 0
A8: 1994 | B8: 34526 | C8: =(('toronto star'!C8)/($B8))*10000 -> 31.860048 | D8: =(('toronto star'!D8)/($B8))*10000 -> 9.2683775 | E8: =(('toronto star'!E8)/($B8))*10000 -> 2.3170944 | F8: =(('toronto star'!F8)/($B8))*10000 -> 0 | G8: =(('toronto star'!G8)/($B8))*10000 -> 0 | H8: =(('toronto star'!H8)/($B8))*10000 -> 0.2896368
A9: 1995 | B9: 35931 | C9: =(('toronto star'!C9)/($B9))*10000 -> 32.562411 | D9: =(('toronto star'!D9)/($B9))*10000 -> 10.575826 | E9: =(('toronto star'!E9)/($B9))*10000 -> 2.7831121 | F9: =(('toronto star'!F9)/($B9))*10000 -> 0.27831121 | G9: =(('toronto star'!G9)/($B9))*10000 -> 0 | H9: =(('toronto star'!H9)/($B9))*10000 -> 0
A10: 1996 | B10: 35568 | C10: =(('toronto star'!C10)/($B10))*10000 -> 31.488979 | D10: =(('toronto star'!D10)/($B10))*10000 -> 10.964912 | E10: =(('toronto star'!E10)/($B10))*10000 -> 2.811516 | F10: =(('toronto star'!F10)/($B10))*10000 -> 0 | G10: =(('toronto star'!G10)/($B10))*10000 -> 0.2811516 | H10: =(('toronto star'!H10)/($B10))*10000 -> 0.56230319
A11: 1997 | B11: 33482 | C11: =(('toronto star'!C11)/($B11))*10000 -> 53.461561 | D11: =(('toronto star'!D11)/($B11))*10000 -> 11.946718 | E11: =(('toronto star'!E11)/($B11))*10000 -> 1.4933397 | F11: =(('toronto star'!F11)/($B11))*10000 -> 0.59733588 | G11: =(('toronto star'!G11)/($B11))*10000 -> 0 | H11: =(('toronto star'!H11)/($B11))*10000 -> 0.29866794
A12: 1998 | B12: 58763 | C12: =(('toronto star'!C12)/($B12))*10000 -> 36.417474 | D12: =(('toronto star'!D12)/($B12))*10000 -> 5.2754284 | E12: =(('toronto star'!E12)/($B12))*10000 -> 1.7017511 | F12: =(('toronto star'!F12)/($B12))*10000 -> 0 | G12: =(('toronto star'!G12)/($B12))*10000 -> 0 | H12: =(('toronto star'!H12)/($B12))*10000 -> 0
A13: 1999 | B13: 46587 | C13: =(('toronto star'!C13)/($B13))*10000 -> 36.920171 | D13: =(('toronto star'!D13)/($B13))*10000 -> 8.8007384 | E13: =(('toronto star'!E13)/($B13))*10000 -> 1.9318694 | F13: =(('toronto star'!F13)/($B13))*10000 -> 0.21465216 | G13: =(('toronto star'!G13)/($B13))*10000 -> 0 | H13: =(('toronto star'!H13)/($B13))*10000 -> 0
... A27: 2013 | B27: 32348 | C27: =(('toronto star'!C27)/($B27))*10000 -> 38.333127 | D27: =(('toronto star'!D27)/($B27))*10000 -> 17.620873 | E27: =(('toronto star'!E27)/($B27))*10000 -> 7.4193149 | F27: =(('toronto star'!F27)/($B27))*10000 -> 0.61827625 | G27: =(('toronto star'!G27)/($B27))*10000 -> 0.30913812 | H27: =(('toronto star'!H27)/($B27))*10000 -> 1.5456906
A28: total | B28: =SUM('toronto star'!B2:B27) -> 962596 | C28: =(('toronto star'!C28)/($B28))*10000 -> 41.221863 | D28: =(('toronto star'!D28)/($B28))*10000 -> 10.814506 | E28: =(('toronto star'!E28)/($B28))*10000 -> 3.2827895 | F28: =(('toronto star'!F28)/($B28))*10000 -> 0.2804915 | G28: =(('toronto star'!G28)/($B28))*10000 -> 0.07272002 | H28: =(('toronto star'!H28)/($B28))*10000 -> 0.52981729
A29: average | B29: =AVERAGE(B18:B27,B2:B16) -> 38503.8 | C29: =AVERAGE(C18:C27,C2:C16) -> 41.435705 | D29: =AVERAGE(D18:D27,D2:D16) -> 10.53654 | E29: =AVERAGE(E18:E27,E2:E16) -> 3.6267843 | F29: =AVERAGE(F18:F27,F2:F16) -> 0.30450028 | G29: =AVERAGE(G18:G27,G2:G16) -> 0.081705952 | H29: =AVERAGE(H18:H27,H2:H16) -> 0.65119888

Sheet globe and mail
A1: YEAR | B1: "the" | C1: "democracy" | D1: "equality" | E1: "inequality" or "unequal" | F1: "democracy" and "equality" | G1: "democracy" and "inequality" or "unequal" | H1: "inequality" and "income"
A2: 1988 | B2: 49574 | C2: 118 | D2: 22 | E2: 5 | F2: 1 | G2: 0 | H2: 0
A3: 1989 | B3: 45206 | C3: 149 | D3: 51 | E3: 8 | F3: 1 | G3: 0 | H3: 0
A4: 1990 | B4: 45410 | C4: 249 | D4: 42 | E4: 7 | F4: 0 | G4: 0 | H4: 0
A5: 1991 | B5: 39179 | C5: 209 | D5: 64 | E5: 7 | F5: 2 | G5: 0 | H5: 0
A6: 1992 | B6: 39761 | C6: 245 | D6: 100 | E6: 9 | F6: 3 | G6: 1 | H6: 0
A7: 1993 | B7: 36806 | C7: 249 | D7: 64 | E7: 8 | F7: 0 | G7: 0 | H7: 1
A8: 1994 | B8: 34031 | C8: 153 | D8: 29 | E8: 9 | F8: 2 | G8: 0 | H8: 1
A9: 1995 | B9: 37258 | C9: 201 | D9: 44 | E9: 12 | F9: 0 | G9: 0 | H9: 1
A10: 1996 | B10: 42616 | C10: 279 | D10: 32 | E10: 13 | F10: 0 | G10: 1 | H10: 2
A11: 1997 | B11: 45073 | C11: 294 | D11: 49 | E11: 10 | F11: 2 | G11: 0 | H11: 4
A12: 1998 | B12: 61387 | C12: 262 | D12: 48 | E12: 20 | F12: 0 | G12: 0 | H12: 2
A13: 1999 | B13: 49622 | C13: 268 | D13: 36 | E13: 16 | F13: 1 | G13: 1 | H13: 2
... A27: 2013 | B27: 41788 | C27: 187 | D27: 85 | E27: 117 | F27: 3 | G27: 3 | H27: 83
A28: total | B28: =SUM(B2:B27) -> 1191621 | C28: =SUM(C2:C27) -> 5475 | D28: =SUM(D2:D27) -> 1097 | E28: =SUM(E2:E27) -> 506 | F28: =SUM(F2:F27) -> 37 | G28: =SUM(G2:G27) -> 19 | H28: =SUM(H2:H27) -> 167
A29: average | B29: =AVERAGE(B2:B27) -> 45831.577 | C29: =AVERAGE(C2:C27) -> 210.57692 | D29: =AVERAGE(D2:D27) -> 42.192308 | E29: =AVERAGE(E2:E27) -> 19.461538 | F29: =AVERAGE(F2:F27) -> 1.4230769 | G29: =AVERAGE(G2:G27) -> 0.73076923 | H29: =AVERAGE(H2:H27) -> 6.4230769

Sheet GandM standardized by the6
A1: YEAR | B1: "the" | C1: "democracy" | D1: "equality" | E1: "inequality" or "unequal" | F1: "democracy" and "equality" | G1: "democracy" and "inequality" or "unequal" | H1: "inequality" and "income"
A2: 1988 | B2: 49574 | C2: =(('globe and mail'!C2)/($B2))*10000 -> 23.8028 | D2: =(('globe and mail'!D2)/($B2))*10000 -> 4.4378101 | E2: =(('globe and mail'!E2)/($B2))*10000 -> 1.0085932 | F2: =(('globe and mail'!F2)/($B2))*10000 -> 0.20171864 | G2: =(('globe and mail'!G2)/($B2))*10000 -> 0 | H2: =(('globe and mail'!H2)/($B2))*10000 -> 0
A3: 1989 | B3: 45206 | C3: =(('globe and mail'!C3)/($B3))*10000 -> 32.960227 | D3: =(('globe and mail'!D3)/($B3))*10000 -> 11.281688 | E3: =(('globe and mail'!E3)/($B3))*10000 -> 1.7696766 | F3: =(('globe and mail'!F3)/($B3))*10000 -> 0.22120957 | G3: =(('globe and mail'!G3)/($B3))*10000 -> 0 | H3: =(('globe and mail'!H3)/($B3))*10000 -> 0
A4: 1990 | B4: 45410 | C4: =(('globe and mail'!C4)/($B4))*10000 -> 54.833737 | D4: =(('globe and mail'!D4)/($B4))*10000 -> 9.2490641 | E4: =(('globe and mail'!E4)/($B4))*10000 -> 1.5415107 | F4: =(('globe and mail'!F4)/($B4))*10000 -> 0 | G4: =(('globe and mail'!G4)/($B4))*10000 -> 0 | H4: =(('globe and mail'!H4)/($B4))*10000 -> 0
A5: 1991 | B5: 39179 | C5: =(('globe and mail'!C5)/($B5))*10000 -> 53.344904 | D5: =(('globe and mail'!D5)/($B5))*10000 -> 16.335282 | E5: =(('globe and mail'!E5)/($B5))*10000 -> 1.7866714 | F5: =(('globe and mail'!F5)/($B5))*10000 -> 0.51047755 | G5: =(('globe and mail'!G5)/($B5))*10000 -> 0 | H5: =(('globe and mail'!H5)/($B5))*10000 -> 0
A6: 1992 | B6: 39761 | C6: =(('globe and mail'!C6)/($B6))*10000 -> 61.618169 | D6: =(('globe and mail'!D6)/($B6))*10000 -> 25.150273 | E6: =(('globe and mail'!E6)/($B6))*10000 -> 2.2635246 | F6: =(('globe and mail'!F6)/($B6))*10000 -> 0.75450819 | G6: =(('globe and mail'!G6)/($B6))*10000 -> 0.25150273 | H6: =(('globe and mail'!H6)/($B6))*10000 -> 0
A7: 1993 | B7: 36806 | C7: =(('globe and mail'!C7)/($B7))*10000 -> 67.652013 | D7: =(('globe and mail'!D7)/($B7))*10000 -> 17.388469 | E7: =(('globe and mail'!E7)/($B7))*10000 -> 2.1735587 | F7: =(('globe and mail'!F7)/($B7))*10000 -> 0 | G7: =(('globe and mail'!G7)/($B7))*10000 -> 0 | H7: =(('globe and mail'!H7)/($B7))*10000 -> 0.27169483
A8: 1994 | B8: 34031 | C8: =(('globe and mail'!C8)/($B8))*10000 -> 44.959008 | D8: =(('globe and mail'!D8)/($B8))*10000 -> 8.521642 | E8: =(('globe and mail'!E8)/($B8))*10000 -> 2.6446475 | F8: =(('globe and mail'!F8)/($B8))*10000 -> 0.58769945 | G8: =(('globe and mail'!G8)/($B8))*10000 -> 0 | H8: =(('globe and mail'!H8)/($B8))*10000 -> 0.29384973
A9: 1995 | B9: 37258 | C9: =(('globe and mail'!C9)/($B9))*10000 -> 53.948145 | D9: =(('globe and mail'!D9)/($B9))*10000 -> 11.809544 | E9: =(('globe and mail'!E9)/($B9))*10000 -> 3.2207848 | F9: =(('globe and mail'!F9)/($B9))*10000 -> 0 | G9: =(('globe and mail'!G9)/($B9))*10000 -> 0 | H9: =(('globe and mail'!H9)/($B9))*10000 -> 0.26839873
A10: 1996 | B10: 42616 | C10: =(('globe and mail'!C10)/($B10))*10000 -> 65.468369 | D10: =(('globe and mail'!D10)/($B10))*10000 -> 7.5089168 | E10: =(('globe and mail'!E10)/($B10))*10000 -> 3.0504975 | F10: =(('globe and mail'!F10)/($B10))*10000 -> 0 | G10: =(('globe and mail'!G10)/($B10))*10000 -> 0.23465365 | H10: =(('globe and mail'!H10)/($B10))*10000 -> 0.4693073
A11: 1997 | B11: 45073 | C11: =(('globe and mail'!C11)/($B11))*10000 -> 65.22752 | D11: =(('globe and mail'!D11)/($B11))*10000 -> 10.871253 | E11: =(('globe and mail'!E11)/($B11))*10000 -> 2.2186231 | F11: =(('globe and mail'!F11)/($B11))*10000 -> 0.44372462 | G11: =(('globe and mail'!G11)/($B11))*10000 -> 0 | H11: =(('globe and mail'!H11)/($B11))*10000 -> 0.88744925
A12: 1998 | B12: 61387 | C12: =(('globe and mail'!C12)/($B12))*10000 -> 42.680046 | D12: =(('globe and mail'!D12)/($B12))*10000 -> 7.8192451 | E12: =(('globe and mail'!E12)/($B12))*10000 -> 3.2580188 | F12: =(('globe and mail'!F12)/($B12))*10000 -> 0 | G12: =(('globe and mail'!G12)/($B12))*10000 -> 0 | H12: =(('globe and mail'!H12)/($B12))*10000 -> 0.32580188
A13: 1999 | B13: 49622 | C13: =(('globe and mail'!C13)/($B13))*10000 -> 54.008303 | D13: =(('globe and mail'!D13)/($B13))*10000 -> 7.2548466 | E13: =(('globe and mail'!E13)/($B13))*10000 -> 3.2243763 | F13: =(('globe and mail'!F13)/($B13))*10000 -> 0.20152352 | G13: =(('globe and mail'!G13)/($B13))*10000 -> 0.20152352 | H13: =(('globe and mail'!H13)/($B13))*10000 -> 0.40304704
... A27: 2013 | B27: 41788 | C27: =(('globe and mail'!C27)/($B27))*10000 -> 44.749689 | D27: =(('globe and mail'!D27)/($B27))*10000 -> 20.340768 | E27: =(('globe and mail'!E27)/($B27))*10000 -> 27.998468 | F27: =(('globe and mail'!F27)/($B27))*10000 -> 0.71790945 | G27: =(('globe and mail'!G27)/($B27))*10000 -> 0.71790945 | H27: =(('globe and mail'!H27)/($B27))*10000 -> 19.862161
A28: total | B28: =SUM(B2:B27) -> 1191621 | C28: =(5475/B28)*10000 -> 45.945817 | D28: =(1097/'GandM standardized by the6'!B28)*10000 -> 9.2059472 | F28: =(37/'GandM standardized by the6'!B28)*10000 -> 0.31050141
A29: average | B29: =AVERAGE(B2:B27) -> 45831.577 | C29: =AVERAGE(C2:C27) -> 46.433696 | D29: =AVERAGE(D2:D27) -> 9.4888899 | E29: =AVERAGE(E2:E27) -> 4.3443638 | F29: =AVERAGE(F2:F27) -> 0.3116083 | G29: =AVERAGE(G2:G27) -> 0.15185632 | H29: =AVERAGE(H2:H27) -> 1.4801833
